BEGIN:VCALENDAR
VERSION:2.0
PRODID:https://www.ge.ch/evenement/evenement-restitution-echange-autour-politique-numerique-etat
X-PUBLISHED-TTL:P1W
BEGIN:VEVENT
UID:58f6500e-8a0c-41e1-8d9c-180b22c88c40
DTSTART:20181127T170000Z
SEQUENCE:0
TRANSP:OPAQUE
DTEND:20181127T183000Z
LOCATION:Avenue de Châtelaine 7, 1203 Genève
SUMMARY:Evènement de restitution et d'échange autour de la politique numérique de l'Etat
CLASS:PUBLIC
DESCRIPTION:\n\nhttps://www.ge.ch/evenement/evenement-restitution-echange-autour-politique-numerique-etat
ORGANIZER:Département de la santé et des mobilités (DSM)
DTSTAMP:20260421T092722Z
END:VEVENT
END:VCALENDAR