BEGIN:VCALENDAR
VERSION:2.0
PRODID:https://www.ge.ch/evenement/barreau-routier-montfleury-restitution-ateliers-presentation-evolution-du-projet
X-PUBLISHED-TTL:P1W
BEGIN:VEVENT
UID:480f6c1e-ee5f-469e-adbe-dddd18ecbe32
DTSTART:20180625T160000Z
SEQUENCE:0
TRANSP:OPAQUE
DTEND:20180625T193000Z
LOCATION:Rue du Pré-de-la-Fontaine 10, 1242 Satigny
SUMMARY:Barreau routier de Montfleury: restitution des ateliers et présentation de l'évolution du projet 
CLASS:PUBLIC
DESCRIPTION:\n\nhttps://www.ge.ch/evenement/barreau-routier-montfleury-restitution-ateliers-presentation-evolution-du-projet
ORGANIZER:Département du territoire (DT)
DTSTAMP:20260420T122010Z
END:VEVENT
END:VCALENDAR