BEGIN:VCALENDAR
VERSION:2.0
PRODID:https://www.ge.ch/evenement/atelier-mon-espace-numerique-etat
X-PUBLISHED-TTL:P1W
BEGIN:VEVENT
UID:c7f5af09-8b35-454d-8a5c-b25c5272d717
DTSTART:20180622T100000Z
SEQUENCE:0
TRANSP:OPAQUE
DTEND:20180622T120000Z
LOCATION:Rue David-DUFOUR 3, 1205 Genève
SUMMARY:Atelier Mon espace numérique à l'Etat
CLASS:PUBLIC
DESCRIPTION:Réinventez avec nous votre espace e-démarches! Atelier également ouvert aux usagers et entreprises qui ne détiennent pas encore de compte.\n\nhttps://www.ge.ch/evenement/atelier-mon-espace-numerique-etat
ORGANIZER:
DTSTAMP:20260425T123535Z
END:VEVENT
END:VCALENDAR