BEGIN:VCALENDAR
VERSION:2.0
PRODID:https://www.ge.ch/evenement/cartographie-du-futur-complet
X-PUBLISHED-TTL:P1W
BEGIN:VEVENT
UID:a0cfeaaa-56ed-45e9-9509-8bb591289ec8
DTSTART:20180418T150000Z
SEQUENCE:0
TRANSP:OPAQUE
DTEND:20180418T180000Z
LOCATION:
SUMMARY:La cartographie du futur ---COMPLET---
CLASS:PUBLIC
DESCRIPTION:Cartographiez votre route pour le succès ! Venez découvrir comment utiliser les données géographiques afin de développer et de valoriser vos activités. \n\nhttps://www.ge.ch/evenement/cartographie-du-futur-complet
ORGANIZER:
DTSTAMP:20260420T193033Z
END:VEVENT
END:VCALENDAR