BEGIN:VCALENDAR
VERSION:2.0
PRODID:https://www.ge.ch/evenement/ceremonie-du-concours-du-developpement-durable-2019
X-PUBLISHED-TTL:P1W
BEGIN:VEVENT
UID:8a5a3c83-c2e4-4c1f-afec-c0ebfe547bcd
DTSTART:20190920T100000Z
SEQUENCE:0
TRANSP:OPAQUE
DTEND:20190920T130000Z
LOCATION:Chemin du Faubourg-de-Cruseilles 12, 1227 Carouge GE
SUMMARY:Cérémonie du concours du développement durable 2019
CLASS:PUBLIC
DESCRIPTION:La remise des prix du concours cantonal du développement durable 2019 aura lieu le vendredi 20 septembre à l'Usine Parker à Carouge.\n\nhttps://www.ge.ch/evenement/ceremonie-du-concours-du-developpement-durable-2019
ORGANIZER:Direction de la durabilité et du climat (DDC)
DTSTAMP:20260421T131135Z
END:VEVENT
END:VCALENDAR