BEGIN:VCALENDAR
VERSION:2.0
PRODID:https://www.ge.ch/evenement/populations-musulmanes-perceptions-realites-enjeux
X-PUBLISHED-TTL:P1W
BEGIN:VEVENT
UID:c6ad95a7-541e-49c4-83c1-f6a7c006afd1
DTSTART:20260519T100000Z
SEQUENCE:0
TRANSP:OPAQUE
DTEND:20260519T120000Z
LOCATION:
SUMMARY:Populations musulmanes : perceptions, réalités et enjeux 
CLASS:PUBLIC
DESCRIPTION:Ce webinaire s'inscrit dans la série d'événements « Vies musulmanes à Genève – Dialogues sur les diversités et les discriminations ».\n\nhttps://www.ge.ch/evenement/populations-musulmanes-perceptions-realites-enjeux
ORGANIZER:OAIS - Bureau de l&#039;intégration et de la citoyenneté
DTSTAMP:20260421T192546Z
END:VEVENT
END:VCALENDAR