BEGIN:VCALENDAR
VERSION:2.0
PRODID:https://www.ge.ch/evenement/appel-offres-concernant-lot-bouteilles
X-PUBLISHED-TTL:P1W
BEGIN:VEVENT
UID:7ed2f4b7-4de4-40d7-9785-8c809b8c014c
DTSTART:20260421T123200Z
SEQUENCE:0
TRANSP:OPAQUE
DTEND:20260429T220000Z
LOCATION:Route de Chêne 54, 1208 Genève
SUMMARY:Appel d'offres concernant un lot de bouteilles
CLASS:PUBLIC
DESCRIPTION:\n\nhttps://www.ge.ch/evenement/appel-offres-concernant-lot-bouteilles
ORGANIZER:OCF - Direction de l&#039;office cantonal des faillites
DTSTAMP:20260421T215546Z
END:VEVENT
END:VCALENDAR