BEGIN:VCALENDAR
VERSION:2.0
PRODID:https://www.ge.ch/evenement/table-ronde-du-grand-geneve-trgg-mai-2026
X-PUBLISHED-TTL:P1W
BEGIN:VEVENT
UID:f70c5952-fd3c-40cf-a542-1db3d3b94677
DTSTART:20260528T054500Z
SEQUENCE:0
TRANSP:OPAQUE
DTEND:20260528T074500Z
LOCATION:
SUMMARY:Table Ronde du Grand Genève (TRGG) - (mai 2026)
CLASS:PUBLIC
DESCRIPTION:« Effet douane »: maîtriser les enjeux techniques transfrontaliers\n\nhttps://www.ge.ch/evenement/table-ronde-du-grand-geneve-trgg-mai-2026
ORGANIZER:
DTSTAMP:20260421T192546Z
END:VEVENT
END:VCALENDAR