BEGIN:VCALENDAR
VERSION:2.0
PRODID:https://www.ge.ch/evenement/festival-explore-demain-2026
X-PUBLISHED-TTL:P1W
BEGIN:VEVENT
UID:3a4cddf7-58ce-451b-83b4-5edbda5c7f5c
DTSTART:20260502T094741Z
SEQUENCE:0
TRANSP:OPAQUE
DTEND:20260509T094741Z
LOCATION:Rue de Carouge 52, 1205 Genève
SUMMARY:Festival Explore Demain 2026
CLASS:PUBLIC
DESCRIPTION:Du 2 au 9 mai, vivez le festival Explore Demain à la salle communale de Plainpalais, en passant par le quartier des Nations et le Pavillon Sicli!\n\nhttps://www.ge.ch/evenement/festival-explore-demain-2026
ORGANIZER:Département du territoire (DT)
DTSTAMP:20260420T203444Z
END:VEVENT
END:VCALENDAR