BEGIN:VCALENDAR
VERSION:2.0
PRODID:https://www.ge.ch/evenement/journees-europeennes-metiers-art-jema
X-PUBLISHED-TTL:P1W
BEGIN:VEVENT
UID:64f0848a-2fb0-49c7-8467-6326396c5005
DTSTART:20260327T080000Z
SEQUENCE:0
TRANSP:OPAQUE
DTEND:20260329T160000Z
LOCATION:
SUMMARY:Journées européennes des métiers d'art -JEMA  
CLASS:PUBLIC
DESCRIPTION:\n\nhttps://www.ge.ch/evenement/journees-europeennes-metiers-art-jema
ORGANIZER:Département de l&#039;instruction publique, de la formation et de la jeunesse (DIP)
DTSTAMP:20260424T182848Z
END:VEVENT
END:VCALENDAR