BEGIN:VCALENDAR
VERSION:2.0
PRODID:https://www.ge.ch/evenement/table-ronde-du-grand-geneve-trgg-mars-2026
X-PUBLISHED-TTL:P1W
BEGIN:VEVENT
UID:2eb21f75-7a3a-423c-a1fc-76289287705b
DTSTART:20260319T064500Z
SEQUENCE:0
TRANSP:OPAQUE
DTEND:20260319T084500Z
LOCATION:Boulevard du Théâtre 4, 1204 Genève
SUMMARY:Table Ronde du Grand Genève (TRGG) - (mars 2026)
CLASS:PUBLIC
DESCRIPTION:Comment accéder aux marchés publics en France et en Suisse?\n\nhttps://www.ge.ch/evenement/table-ronde-du-grand-geneve-trgg-mars-2026
ORGANIZER:
DTSTAMP:20260421T115123Z
END:VEVENT
END:VCALENDAR