BEGIN:VCALENDAR
VERSION:2.0
PRODID:https://www.ge.ch/evenement/travaux-voie-verte-geneve-versoix-seance-information
X-PUBLISHED-TTL:P1W
BEGIN:VEVENT
UID:fb829db2-b245-49ae-ae13-5137763049b8
DTSTART:20260304T183000Z
SEQUENCE:0
TRANSP:OPAQUE
DTEND:20260304T203000Z
LOCATION:Parc des Aiglettes 1, 1293 Bellevue
SUMMARY:Travaux Voie verte Genève-Versoix: séance d'information 
CLASS:PUBLIC
DESCRIPTION:Venez vous informer sur le début des travaux de la Voie verte Genève-Versoix!\n\nhttps://www.ge.ch/evenement/travaux-voie-verte-geneve-versoix-seance-information
ORGANIZER:Département du territoire (DT)
DTSTAMP:20260420T181204Z
END:VEVENT
END:VCALENDAR