BEGIN:VCALENDAR
VERSION:2.0
PRODID:https://www.ge.ch/evenement/reussir-son-demarrage-comprenant-son-marche-fevrier-2026
X-PUBLISHED-TTL:P1W
BEGIN:VEVENT
UID:22db90c2-ff4b-4598-9ea8-f7e87846344d
DTSTART:20260210T071500Z
SEQUENCE:0
TRANSP:OPAQUE
DTEND:20260210T110000Z
LOCATION:Rue Albert-RICHARD 4, 1201 Genève
SUMMARY:Réussir son démarrage en comprenant son marché (février 2026)
CLASS:PUBLIC
DESCRIPTION:Etapes clés et points d'attention pour maximiser les chances de réussir le lancement de son entreprise\n\nhttps://www.ge.ch/evenement/reussir-son-demarrage-comprenant-son-marche-fevrier-2026
ORGANIZER:
DTSTAMP:20260421T104130Z
END:VEVENT
END:VCALENDAR