BEGIN:VCALENDAR
VERSION:2.0
PRODID:https://www.ge.ch/evenement/projet-quartier-pre-bois-cointrin-information-publique-echanges
X-PUBLISHED-TTL:P1W
BEGIN:VEVENT
UID:be561924-8fa0-4001-8bc1-3a90a38502d9
DTSTART:20251127T180000Z
SEQUENCE:0
TRANSP:OPAQUE
DTEND:20251127T193000Z
LOCATION:Route de Pré-Bois 20, 1215 Genève
SUMMARY:Projet de quartier de Pré-Bois à Cointrin - information publique et échanges
CLASS:PUBLIC
DESCRIPTION:\n\nhttps://www.ge.ch/evenement/projet-quartier-pre-bois-cointrin-information-publique-echanges
ORGANIZER:Office de l&#039;urbanisme (OU)
DTSTAMP:20260420T210801Z
END:VEVENT
END:VCALENDAR