BEGIN:VCALENDAR
VERSION:2.0
PRODID:https://www.ge.ch/evenement/nouveau-projet-quartier-val-travers-atelier-visions-actuelles
X-PUBLISHED-TTL:P1W
BEGIN:VEVENT
UID:e3b9fa89-e381-443a-930a-d0318d7ecbc5
DTSTART:20251117T173000Z
SEQUENCE:0
TRANSP:OPAQUE
DTEND:20251117T193000Z
LOCATION:Rue du Vieux-Moulin 6, 1290 Versoix
SUMMARY:Un nouveau projet pour le quartier de Val-de-Travers - atelier Visions actuelles 
CLASS:PUBLIC
DESCRIPTION:\n\nhttps://www.ge.ch/evenement/nouveau-projet-quartier-val-travers-atelier-visions-actuelles
ORGANIZER:Office de l&#039;urbanisme (OU)
DTSTAMP:20260421T002835Z
END:VEVENT
END:VCALENDAR