BEGIN:VCALENDAR
VERSION:2.0
PRODID:https://www.ge.ch/evenement/table-ronde-du-grand-geneve-trgg-novembre-2025
X-PUBLISHED-TTL:P1W
BEGIN:VEVENT
UID:c826ebfd-14c9-4b61-a523-332617bb8ad9
DTSTART:20251113T064500Z
SEQUENCE:0
TRANSP:OPAQUE
DTEND:20251113T084500Z
LOCATION:
SUMMARY:Table Ronde du Grand Genève (TRGG) - (novembre 2025)
CLASS:PUBLIC
DESCRIPTION:Collaboration industrielle transfrontalière : sous-traitance, cotraitance et bilocalisation dans le Grand Genève\n\nhttps://www.ge.ch/evenement/table-ronde-du-grand-geneve-trgg-novembre-2025
ORGANIZER:
DTSTAMP:20260421T115204Z
END:VEVENT
END:VCALENDAR