BEGIN:VCALENDAR
VERSION:2.0
PRODID:https://www.ge.ch/evenement/democratie-vous-jouer
X-PUBLISHED-TTL:P1W
BEGIN:VEVENT
UID:ae87fec1-2bdd-4ef9-b812-e26b5e28cc2e
DTSTART:20251004T110000Z
SEQUENCE:0
TRANSP:OPAQUE
DTEND:20251004T133000Z
LOCATION:Boulevard du Pont-d&#039;Arve 40, 1205 Genève
SUMMARY:La démocratie : à vous de jouer !
CLASS:PUBLIC
DESCRIPTION:Atelier\n\nhttps://www.ge.ch/evenement/democratie-vous-jouer
ORGANIZER:
DTSTAMP:20260425T184850Z
END:VEVENT
END:VCALENDAR