BEGIN:VCALENDAR
VERSION:2.0
PRODID:https://www.ge.ch/evenement/table-ronde-du-grand-geneve-trgg-octobre-2025
X-PUBLISHED-TTL:P1W
BEGIN:VEVENT
UID:0f44dfde-2f19-4af8-a785-995fc9c0b190
DTSTART:20251002T054500Z
SEQUENCE:0
TRANSP:OPAQUE
DTEND:20251002T074500Z
LOCATION:Boulevard du Théâtre 4, 1204 Genève
SUMMARY:Table Ronde du Grand Genève (TRGG) - (octobre 2025)
CLASS:PUBLIC
DESCRIPTION:Faire de la mobilité durable un outil stratégique: une approche transfrontalière dans le Grand Genève\n\nhttps://www.ge.ch/evenement/table-ronde-du-grand-geneve-trgg-octobre-2025
ORGANIZER:
DTSTAMP:20260421T105436Z
END:VEVENT
END:VCALENDAR