BEGIN:VCALENDAR
VERSION:2.0
PRODID:https://www.ge.ch/evenement/nouvel-espace-jeunes-veyrier-atelier-avec-12-18-ans
X-PUBLISHED-TTL:P1W
BEGIN:VEVENT
UID:b9f764de-edb1-44bf-8b8a-078202c70752
DTSTART:20250905T160000Z
SEQUENCE:0
TRANSP:OPAQUE
DTEND:20250905T200000Z
LOCATION:Route de Veyrier 261, 1255 Veyrier
SUMMARY:Un nouvel espace jeunes à Veyrier  : atelier avec les 12-18 ans
CLASS:PUBLIC
DESCRIPTION:Viens imaginer un nouvel espace pour les jeunes de Veyrier !\n\nhttps://www.ge.ch/evenement/nouvel-espace-jeunes-veyrier-atelier-avec-12-18-ans
ORGANIZER:Office de l&#039;urbanisme (OU)
DTSTAMP:20260420T174436Z
END:VEVENT
END:VCALENDAR