BEGIN:VCALENDAR
VERSION:2.0
PRODID:https://www.ge.ch/evenement/table-ronde-du-grand-geneve-trgg-juin-2025
X-PUBLISHED-TTL:P1W
BEGIN:VEVENT
UID:8aa4c2b9-ec8e-41cc-b01f-a3d2d266267b
DTSTART:20250612T054500Z
SEQUENCE:0
TRANSP:OPAQUE
DTEND:20250612T074500Z
LOCATION:Boulevard du Théâtre 4, 1204 Genève
SUMMARY:Table Ronde du Grand Genève (TRGG) - (juin 2025)
CLASS:PUBLIC
DESCRIPTION:Implantation des deux côtés de la frontière: les bonnes pratiques\n\nhttps://www.ge.ch/evenement/table-ronde-du-grand-geneve-trgg-juin-2025
ORGANIZER:
DTSTAMP:20260421T104234Z
END:VEVENT
END:VCALENDAR