BEGIN:VCALENDAR
VERSION:2.0
PRODID:https://www.ge.ch/evenement/complet-formation-blockchain-2
X-PUBLISHED-TTL:P1W
BEGIN:VEVENT
UID:34d80343-60b2-4724-ba81-a29b1ffa60c7
DTSTART:20250220T070000Z
SEQUENCE:0
TRANSP:OPAQUE
DTEND:20250220T140000Z
LOCATION:Rue de La-Tambourine 17, 1227 Carouge GE
SUMMARY:COMPLET - Formation Blockchain
CLASS:PUBLIC
DESCRIPTION:\n\nhttps://www.ge.ch/evenement/complet-formation-blockchain-2
ORGANIZER:Office cantonal de l&#039;économie et de l&#039;innovation
DTSTAMP:20260421T101422Z
END:VEVENT
END:VCALENDAR