BEGIN:VCALENDAR
VERSION:2.0
PRODID:https://www.ge.ch/evenement/table-ronde-du-grand-geneve-trgg-fevrier-2025
X-PUBLISHED-TTL:P1W
BEGIN:VEVENT
UID:9515b84d-6299-4590-83b6-94b44e885d73
DTSTART:20250206T064500Z
SEQUENCE:0
TRANSP:OPAQUE
DTEND:20250206T084500Z
LOCATION:
SUMMARY:Table Ronde du Grand Genève (TRGG) - (février 2025)
CLASS:PUBLIC
DESCRIPTION:Comment accéder aux marchés publics en France et en Suisse?\n\nhttps://www.ge.ch/evenement/table-ronde-du-grand-geneve-trgg-fevrier-2025
ORGANIZER:
DTSTAMP:20260421T104158Z
END:VEVENT
END:VCALENDAR