BEGIN:VCALENDAR
VERSION:2.0
PRODID:https://www.ge.ch/evenement/complet-formation-intelligence-artificielle-1
X-PUBLISHED-TTL:P1W
BEGIN:VEVENT
UID:8ac39188-b946-4466-89d1-ebec3e2d8fe6
DTSTART:20241101T070000Z
SEQUENCE:0
TRANSP:OPAQUE
DTEND:20241101T140000Z
LOCATION:Rue de La-Tambourine 17, 1227 Carouge GE
SUMMARY:COMPLET - Formation Intelligence Artificielle
CLASS:PUBLIC
DESCRIPTION:\n\nhttps://www.ge.ch/evenement/complet-formation-intelligence-artificielle-1
ORGANIZER:Office cantonal de l&#039;économie et de l&#039;innovation
DTSTAMP:20260420T135054Z
END:VEVENT
END:VCALENDAR