BEGIN:VCALENDAR
VERSION:2.0
PRODID:https://www.ge.ch/evenement/petit-dejeuner-pme-start-up-novembre-2024
X-PUBLISHED-TTL:P1W
BEGIN:VEVENT
UID:6b3d07a0-5fdb-4ecc-883d-3474cad2c44a
DTSTART:20241129T070000Z
SEQUENCE:0
TRANSP:OPAQUE
DTEND:20241129T093000Z
LOCATION:Rue de Saint-Jean 98, 1201 Genève
SUMMARY:Petit déjeuner des PME et des start-up (novembre 2024)
CLASS:PUBLIC
DESCRIPTION:Actualités juridiques et fiscales\n\nhttps://www.ge.ch/evenement/petit-dejeuner-pme-start-up-novembre-2024
ORGANIZER:
DTSTAMP:20260423T170051Z
END:VEVENT
END:VCALENDAR