BEGIN:VCALENDAR
VERSION:2.0
PRODID:https://www.ge.ch/evenement/chemin-ailes-meyrin-ca-bouge
X-PUBLISHED-TTL:P1W
BEGIN:VEVENT
UID:df5ef140-4859-4cb6-828d-8f821f0f778b
DTSTART:20240914T120000Z
SEQUENCE:0
TRANSP:OPAQUE
DTEND:20240914T160000Z
LOCATION:Chemin des Ailes 31, 1216 Cointrin
SUMMARY:Chemin des Ailes à Meyrin - Ça bouge !
CLASS:PUBLIC
DESCRIPTION:\n\nhttps://www.ge.ch/evenement/chemin-ailes-meyrin-ca-bouge
ORGANIZER:Office de l&#039;urbanisme (OU)
DTSTAMP:20260419T141610Z
END:VEVENT
END:VCALENDAR