BEGIN:VCALENDAR
VERSION:2.0
PRODID:https://www.ge.ch/evenement/programme-detaille-du-mardi-8-octobre
X-PUBLISHED-TTL:P1W
BEGIN:VEVENT
UID:d20c6a1d-f8f4-45ff-9eca-eb8008796a4d
DTSTART:20241008
SEQUENCE:0
TRANSP:OPAQUE
DTEND:
LOCATION:
SUMMARY:Programme détaillé du mardi 8 octobre
CLASS:PUBLIC
DESCRIPTION:\n\nhttps://www.ge.ch/evenement/programme-detaille-du-mardi-8-octobre
ORGANIZER:
DTSTAMP:20260424T133904Z
END:VEVENT
END:VCALENDAR