BEGIN:VCALENDAR
VERSION:2.0
PRODID:https://www.ge.ch/evenement/petit-dejeuner-pme-start-up-avril-2024
X-PUBLISHED-TTL:P1W
BEGIN:VEVENT
UID:7f2ddde7-7cce-4602-84ce-0350c25d6d2c
DTSTART:20240426T060000Z
SEQUENCE:0
TRANSP:OPAQUE
DTEND:20240426T083000Z
LOCATION:Rue de Saint-Jean 98, 1201 Genève
SUMMARY:Petit déjeuner des PME et des start-up (avril 2024)
CLASS:PUBLIC
DESCRIPTION:Fidéliser et intéresser ses équipes à long terme\n\nhttps://www.ge.ch/evenement/petit-dejeuner-pme-start-up-avril-2024
ORGANIZER:
DTSTAMP:20260423T074850Z
END:VEVENT
END:VCALENDAR