BEGIN:VCALENDAR
VERSION:2.0
PRODID:https://www.ge.ch/evenement/conference-pourquoi-se-fait-cheveux-gris-quand-vieillit
X-PUBLISHED-TTL:P1W
BEGIN:VEVENT
UID:963f90e8-746b-4c6e-a191-2b17a2820c6e
DTSTART:20240418T160000Z
SEQUENCE:0
TRANSP:OPAQUE
DTEND:20240418T180000Z
LOCATION:Rue de la Croix-Rouge 4, 1204 Genève
SUMMARY:Conférence "Pourquoi se fait-on des cheveux gris quand on vieillit? 
CLASS:PUBLIC
DESCRIPTION:\n\nhttps://www.ge.ch/evenement/conference-pourquoi-se-fait-cheveux-gris-quand-vieillit
ORGANIZER:Bureau de promotion de l&#039;égalité et de prévention des violences
DTSTAMP:20260423T091150Z
END:VEVENT
END:VCALENDAR