BEGIN:VCALENDAR
VERSION:2.0
PRODID:https://www.ge.ch/evenement/formation-intelligence-artificielle-complet-6
X-PUBLISHED-TTL:P1W
BEGIN:VEVENT
UID:47b2fe83-7446-4d9a-b588-596d5890a8ff
DTSTART:20240513T060000Z
SEQUENCE:0
TRANSP:OPAQUE
DTEND:20240513T130000Z
LOCATION:Rue de La-Tambourine 17, 1227 Carouge GE
SUMMARY:Formation Intelligence Artificielle - complet
CLASS:PUBLIC
DESCRIPTION:\n\nhttps://www.ge.ch/evenement/formation-intelligence-artificielle-complet-6
ORGANIZER:
DTSTAMP:20260420T114154Z
END:VEVENT
END:VCALENDAR