BEGIN:VCALENDAR
VERSION:2.0
PRODID:https://www.ge.ch/evenement/presentation-du-projet-plan-localise-quartier-semailles-lancy
X-PUBLISHED-TTL:P1W
BEGIN:VEVENT
UID:f8f4ddfd-be8d-4879-be20-797e3a0d7f70
DTSTART:20240214T173000Z
SEQUENCE:0
TRANSP:OPAQUE
DTEND:20240214T200000Z
LOCATION:Avenue des Communes-Réunies 73, 1212 Grand-Lancy
SUMMARY:Présentation du projet de plan localisé de quartier des Semailles à Lancy 
CLASS:PUBLIC
DESCRIPTION:\n\nhttps://www.ge.ch/evenement/presentation-du-projet-plan-localise-quartier-semailles-lancy
ORGANIZER:
DTSTAMP:20260420T122008Z
END:VEVENT
END:VCALENDAR