BEGIN:VCALENDAR
VERSION:2.0
PRODID:https://www.ge.ch/evenement/campus-sante-meyrin-deux-ateliers-concertation
X-PUBLISHED-TTL:P1W
BEGIN:VEVENT
UID:9b196c1e-7d13-4451-b75a-87c6ad2662d7
DTSTART:20240206T173000Z
SEQUENCE:0
TRANSP:OPAQUE
DTEND:20240312T193000Z
LOCATION:Avenue Jacob-Daniel-MAILLARD 3, 1217 Meyrin
SUMMARY:Campus Santé à Meyrin - deux ateliers de concertation
CLASS:PUBLIC
DESCRIPTION:\n\nhttps://www.ge.ch/evenement/campus-sante-meyrin-deux-ateliers-concertation
ORGANIZER:Office de l&#039;urbanisme (OU)
DTSTAMP:20260420T122009Z
END:VEVENT
END:VCALENDAR