BEGIN:VCALENDAR
VERSION:2.0
PRODID:https://www.ge.ch/evenement/restitution-concertation-exposition-projet-susette-au-grand-saconnex
X-PUBLISHED-TTL:P1W
BEGIN:VEVENT
UID:e9cf4e5e-f115-4c75-a68f-6b7ced642d1f
DTSTART:20240206T173000Z
SEQUENCE:0
TRANSP:OPAQUE
DTEND:20240323T160000Z
LOCATION:Route de Colovrex 2, 1218 Le Grand-Saconnex
SUMMARY:Restitution de la concertation et exposition sur le projet La Susette au Grand-Saconnex 
CLASS:PUBLIC
DESCRIPTION:Présentation du processus de concertation et de l’image directrice en cours de consolidation.\n\nhttps://www.ge.ch/evenement/restitution-concertation-exposition-projet-susette-au-grand-saconnex
ORGANIZER:Département du territoire (DT)
DTSTAMP:20260420T224301Z
END:VEVENT
END:VCALENDAR