BEGIN:VCALENDAR
VERSION:2.0
PRODID:https://www.ge.ch/evenement/matinale-creation-entreprise-janvier-2024
X-PUBLISHED-TTL:P1W
BEGIN:VEVENT
UID:f54a54d9-03c2-426c-9805-92c8be9f3e7e
DTSTART:20240111T080000Z
SEQUENCE:0
TRANSP:OPAQUE
DTEND:20240111T103000Z
LOCATION:Rue PRÉVOST-MARTIN 6, 1205 Genève
SUMMARY:Matinale de la création d'entreprise (janvier 2024)
CLASS:PUBLIC
DESCRIPTION:Créer une entreprise\n\nhttps://www.ge.ch/evenement/matinale-creation-entreprise-janvier-2024
ORGANIZER:
DTSTAMP:20260420T104135Z
END:VEVENT
END:VCALENDAR