BEGIN:VCALENDAR
VERSION:2.0
PRODID:https://www.ge.ch/evenement/formation-responsabilite-numerique-entreprises-rne-complet-25
X-PUBLISHED-TTL:P1W
BEGIN:VEVENT
UID:6187edaa-07c2-4fbb-933c-1033a359079b
DTSTART:20240419T060000Z
SEQUENCE:0
TRANSP:OPAQUE
DTEND:20240419T130000Z
LOCATION:Rue de La-Tambourine 17, 1227 Carouge GE
SUMMARY:Formation Responsabilité Numérique des Entreprises (RNE) - complet
CLASS:PUBLIC
DESCRIPTION:Une journée de formation continue certifiante et gratuite à la HEG Genève\n\nhttps://www.ge.ch/evenement/formation-responsabilite-numerique-entreprises-rne-complet-25
ORGANIZER:
DTSTAMP:20260421T065319Z
END:VEVENT
END:VCALENDAR