BEGIN:VCALENDAR
VERSION:2.0
PRODID:https://www.ge.ch/evenement/grands-esserts-premiere-pierre
X-PUBLISHED-TTL:P1W
BEGIN:VEVENT
UID:d72d3041-6b0e-4ef6-a6bf-b9c2d96ede19
DTSTART:20230914T140000Z
SEQUENCE:0
TRANSP:OPAQUE
DTEND:20230914T183000Z
LOCATION:
SUMMARY:Grands Esserts - Première pierre
CLASS:PUBLIC
DESCRIPTION:\n\nhttps://www.ge.ch/evenement/grands-esserts-premiere-pierre
ORGANIZER:Département du territoire (DT)
DTSTAMP:20260420T181306Z
END:VEVENT
END:VCALENDAR