BEGIN:VCALENDAR
VERSION:2.0
PRODID:https://www.ge.ch/evenement/3eme-edition-du-playcamp-2023-inscriptions-ouvertes
X-PUBLISHED-TTL:P1W
BEGIN:VEVENT
UID:69ee5114-536e-4455-990a-a1d13bbd7f53
DTSTART:20230923T070000Z
SEQUENCE:0
TRANSP:OPAQUE
DTEND:20230923T160000Z
LOCATION:Rue de Lyon 58, 1203 Genève
SUMMARY:3ème édition du Playcamp 2023 - inscriptions ouvertes
CLASS:PUBLIC
DESCRIPTION:Innovation games\n\nhttps://www.ge.ch/evenement/3eme-edition-du-playcamp-2023-inscriptions-ouvertes
ORGANIZER:ST - Genève Lab
DTSTAMP:20260422T160737Z
END:VEVENT
END:VCALENDAR