BEGIN:VCALENDAR
VERSION:2.0
PRODID:https://www.ge.ch/evenement/chene-bourg-centre-restitution-du-projet-quartier-edouard-baud
X-PUBLISHED-TTL:P1W
BEGIN:VEVENT
UID:6660090b-dc19-4802-a4d4-f726552a6ba5
DTSTART:20230612T170000Z
SEQUENCE:0
TRANSP:OPAQUE
DTEND:20230612T183000Z
LOCATION:Avenue François-Adolphe-GRISON 6, 1225 Chêne-Bourg
SUMMARY:Chêne-Bourg Centre - restitution du projet de quartier Édouard-Baud
CLASS:PUBLIC
DESCRIPTION:Restitution du processus de concertation et présentation du projet de plan localisé de quartier (PLQ) Édouard-Baud, le 12 juin 2023, à 19h, à la salle du Point favre.\n\nhttps://www.ge.ch/evenement/chene-bourg-centre-restitution-du-projet-quartier-edouard-baud
ORGANIZER:Département du territoire (DT)
DTSTAMP:20260420T091313Z
END:VEVENT
END:VCALENDAR