BEGIN:VCALENDAR
VERSION:2.0
PRODID:https://www.ge.ch/evenement/seminaire-immigration-formation
X-PUBLISHED-TTL:P1W
BEGIN:VEVENT
UID:35294151-a9df-4a28-bb60-ebe54f62395c
DTSTART:20230523T063000Z
SEQUENCE:0
TRANSP:OPAQUE
DTEND:20230523T084500Z
LOCATION:Avenue de Champel 7, 1205 Genève
SUMMARY:Séminaire Immigration-Formation
CLASS:PUBLIC
DESCRIPTION:Le bureau de l'intégration des étrangers (BIE) et l'Office pour l'orientation, la formation professionnelle et continue (OFPC) ont le plaisir de vous inviter à une séance annuelle d’information et d’échanges sur le thème: « Immigration – Formation ».\n\nhttps://www.ge.ch/evenement/seminaire-immigration-formation
ORGANIZER:
DTSTAMP:20260420T222012Z
END:VEVENT
END:VCALENDAR