BEGIN:VCALENDAR
VERSION:2.0
PRODID:https://www.ge.ch/evenement/presentation-grande-maquette-du-pav-1
X-PUBLISHED-TTL:P1W
BEGIN:VEVENT
UID:7019a7bb-1165-4156-8eed-e0b18d368020
DTSTART:20230427T110000Z
SEQUENCE:0
TRANSP:OPAQUE
DTEND:20230427T130000Z
LOCATION:Route des Acacias 45, 1227 Les Acacias
SUMMARY:Présentation de la grande maquette du PAV
CLASS:PUBLIC
DESCRIPTION:Découvrez le futur quartier Praille Acacias Vernets \n\nhttps://www.ge.ch/evenement/presentation-grande-maquette-du-pav-1
ORGANIZER:Département du territoire (DT)
DTSTAMP:20260421T153647Z
END:VEVENT
END:VCALENDAR