BEGIN:VCALENDAR
VERSION:2.0
PRODID:https://www.ge.ch/evenement/formation-responsabilite-numerique-entreprises-rne-complet-5
X-PUBLISHED-TTL:P1W
BEGIN:VEVENT
UID:068f4247-26fa-453c-9e5f-11928242bf07
DTSTART:20230303T070000Z
SEQUENCE:0
TRANSP:OPAQUE
DTEND:20230303T140000Z
LOCATION:Rue de La-Tambourine 17, 1227 Carouge GE
SUMMARY:Formation Responsabilité Numérique des Entreprises (RNE) - complet
CLASS:PUBLIC
DESCRIPTION:Une journée de formation continue certifiante et gratuite à la HEG Genève\n\nhttps://www.ge.ch/evenement/formation-responsabilite-numerique-entreprises-rne-complet-5
ORGANIZER:
DTSTAMP:20260424T155643Z
END:VEVENT
END:VCALENDAR