BEGIN:VCALENDAR
VERSION:2.0
PRODID:https://www.ge.ch/evenement/samedi-qui-peut-tout-changer-0
X-PUBLISHED-TTL:P1W
BEGIN:VEVENT
UID:b1c7f0ae-5867-475e-b962-03fe13e441a9
DTSTART:20221001T080000Z
SEQUENCE:0
TRANSP:OPAQUE
DTEND:20221001T140000Z
LOCATION:
SUMMARY:Le samedi qui peut tout changer 
CLASS:PUBLIC
DESCRIPTION:Contribuez à l’élaboration de la vision territoriale transfrontalière.\n\nhttps://www.ge.ch/evenement/samedi-qui-peut-tout-changer-0
ORGANIZER:Département du territoire (DT)
DTSTAMP:20260423T081754Z
END:VEVENT
END:VCALENDAR