BEGIN:VCALENDAR
VERSION:2.0
PRODID:https://www.ge.ch/evenement/quel-avenir-quartier-cardinal-mermillod-carouge
X-PUBLISHED-TTL:P1W
BEGIN:VEVENT
UID:adbe0900-3215-4f71-bcc4-deb7156e728f
DTSTART:20220906T163000Z
SEQUENCE:0
TRANSP:OPAQUE
DTEND:20220906T190000Z
LOCATION:Rue Daniel-GEVRIL 13, 1227 Carouge GE
SUMMARY:Quel avenir pour le quartier Cardinal-Mermillod  à Carouge ?
CLASS:PUBLIC
DESCRIPTION:L’avenir du quartier Cardinal-Mermillod mérite votre attention. \n\nhttps://www.ge.ch/evenement/quel-avenir-quartier-cardinal-mermillod-carouge
ORGANIZER:
DTSTAMP:20260421T075837Z
END:VEVENT
END:VCALENDAR