BEGIN:VCALENDAR
VERSION:2.0
PRODID:https://www.ge.ch/evenement/10-ans-nouvelle-constitution-genevoise-bilan-evaluation
X-PUBLISHED-TTL:P1W
BEGIN:VEVENT
UID:12f45faf-57f1-456e-a083-0842b70b2484
DTSTART:20221007T113000Z
SEQUENCE:0
TRANSP:OPAQUE
DTEND:20221007T153000Z
LOCATION:Rue de l&#039;Hôtel-de-Ville 2, 1204 Genève
SUMMARY:Les 10 ans de la nouvelle Constitution genevoise : bilan et évaluation
CLASS:PUBLIC
DESCRIPTION:Colloque\n\nhttps://www.ge.ch/evenement/10-ans-nouvelle-constitution-genevoise-bilan-evaluation
ORGANIZER:
DTSTAMP:20260419T145229Z
END:VEVENT
END:VCALENDAR