BEGIN:VCALENDAR
VERSION:2.0
PRODID:https://www.ge.ch/evenement/playcamp-2022
X-PUBLISHED-TTL:P1W
BEGIN:VEVENT
UID:e9ba0768-0915-414d-b77c-89b1cb6c33f0
DTSTART:20221119T080000Z
SEQUENCE:0
TRANSP:OPAQUE
DTEND:20221119T163000Z
LOCATION:Rue de Lyon 58, 1203 Genève
SUMMARY:Playcamp 2022
CLASS:PUBLIC
DESCRIPTION:Innovation Games\n\nhttps://www.ge.ch/evenement/playcamp-2022
ORGANIZER:ST - Genève Lab
DTSTAMP:20260422T160737Z
END:VEVENT
END:VCALENDAR