BEGIN:VCALENDAR
VERSION:2.0
PRODID:https://www.ge.ch/evenement/table-ronde-agir-egalite-dans-domaine-migration-quelles-recommandations-politiques-publiques
X-PUBLISHED-TTL:P1W
BEGIN:VEVENT
UID:7e95e569-9649-455f-8361-b66456361cb6
DTSTART:20220428T160000Z
SEQUENCE:0
TRANSP:OPAQUE
DTEND:20220428T170000Z
LOCATION:Rue PRÉVOST-MARTIN 28, 1205 Genève
SUMMARY:Table ronde : Agir pour l’égalité dans le domaine de la migration : quelles recommandations pour les politiques publiques ?
CLASS:PUBLIC
DESCRIPTION:\n\nhttps://www.ge.ch/evenement/table-ronde-agir-egalite-dans-domaine-migration-quelles-recommandations-politiques-publiques
ORGANIZER:
DTSTAMP:20260421T212340Z
END:VEVENT
END:VCALENDAR