BEGIN:VCALENDAR
VERSION:2.0
PRODID:https://www.ge.ch/evenement/reussir-son-demarrage-comprenant-son-marche-2
X-PUBLISHED-TTL:P1W
BEGIN:VEVENT
UID:2870636a-d6fd-4ce0-a35d-9d658db1534d
DTSTART:20220201T070000Z
SEQUENCE:0
TRANSP:OPAQUE
DTEND:20220201T110000Z
LOCATION:Rue de Saint-Jean 98, 1201 Genève
SUMMARY:Réussir son démarrage en comprenant son marché
CLASS:PUBLIC
DESCRIPTION:Vous cherchez des informations pour lancer votre entreprise en toute sécurité?\n\nhttps://www.ge.ch/evenement/reussir-son-demarrage-comprenant-son-marche-2
ORGANIZER:Office cantonal de l&#039;économie et de l&#039;innovation
DTSTAMP:20260420T104103Z
END:VEVENT
END:VCALENDAR