BEGIN:VCALENDAR
VERSION:2.0
PRODID:https://www.ge.ch/evenement/exposition-cool-city-secheron
X-PUBLISHED-TTL:P1W
BEGIN:VEVENT
UID:450eaeb2-2caf-4ee0-b491-837e4cdece9b
DTSTART:20220110T070000Z
SEQUENCE:0
TRANSP:OPAQUE
DTEND:20220211T160000Z
LOCATION:Avenue BLANC 3, 1202 Genève
SUMMARY:Exposition Cool City Sécheron
CLASS:PUBLIC
DESCRIPTION:\n\nhttps://www.ge.ch/evenement/exposition-cool-city-secheron
ORGANIZER:
DTSTAMP:20260422T194903Z
END:VEVENT
END:VCALENDAR