BEGIN:VCALENDAR
VERSION:2.0
PRODID:https://www.ge.ch/evenement/ateliers-createurs-annule-0
X-PUBLISHED-TTL:P1W
BEGIN:VEVENT
UID:0b0bb43f-5693-49c4-9812-8775cabfb4cf
DTSTART:20220114T070000Z
SEQUENCE:0
TRANSP:OPAQUE
DTEND:20220114T110000Z
LOCATION:Rue de Saint-Jean 98, 1201 Genève
SUMMARY:Les ateliers des créateurs - ANNULÉ
CLASS:PUBLIC
DESCRIPTION:Une matinée pour tout savoir sur la création d'entreprise.\n\nhttps://www.ge.ch/evenement/ateliers-createurs-annule-0
ORGANIZER:Département de l&#039;économie, de l&#039;emploi et de l&#039;énergie (DEE)
DTSTAMP:20260420T061505Z
END:VEVENT
END:VCALENDAR