BEGIN:VCALENDAR
VERSION:2.0
PRODID:https://www.ge.ch/evenement/concertation-pav-pointe-nord-paysage-ecologie-urbaine
X-PUBLISHED-TTL:P1W
BEGIN:VEVENT
UID:64e46bc8-a6c5-419a-82d6-dfed8f4cc403
DTSTART:20211109T170000Z
SEQUENCE:0
TRANSP:OPAQUE
DTEND:20211109T190000Z
LOCATION:Chemin de la Gravière 9, 1227 Les Acacias
SUMMARY:Concertation PAV Pointe Nord - Paysage et écologie urbaine
CLASS:PUBLIC
DESCRIPTION:Venez vous balader et débattre avec les parties prenantes du quartier de la Pointe Nord !\n\nhttps://www.ge.ch/evenement/concertation-pav-pointe-nord-paysage-ecologie-urbaine
ORGANIZER:Département du territoire (DT)
DTSTAMP:20260422T171416Z
END:VEVENT
END:VCALENDAR