BEGIN:VCALENDAR
VERSION:2.0
PRODID:https://www.ge.ch/evenement/ateliers-echanges-chene-bourg-centre-ville-evolution
X-PUBLISHED-TTL:P1W
BEGIN:VEVENT
UID:730734a3-7e13-4543-bef0-7a9a68e0af02
DTSTART:20220119T180000Z
SEQUENCE:0
TRANSP:OPAQUE
DTEND:20220119T193000Z
LOCATION:Avenue François-Adolphe-GRISON 6, 1225 Chêne-Bourg
SUMMARY:Ateliers d'échanges Chêne-Bourg - un centre-ville en évolution
CLASS:PUBLIC
DESCRIPTION:\n\nhttps://www.ge.ch/evenement/ateliers-echanges-chene-bourg-centre-ville-evolution
ORGANIZER:Département du territoire (DT)
DTSTAMP:20260420T122027Z
END:VEVENT
END:VCALENDAR